{"text_format":"1","workbook":"xlsx","n_sheets":3,"sheets":["Risk Register (Positive)","Risk Matrix","Scales"],"not_rendered":{"charts":0,"images":2,"macros":1,"external_links":0,"defined_names":1,"comments":0,"pivot_tables":0},"unopened":[],"bounds":{"document_bytes":16777216,"sheet_cells":100000,"rows_first":2000,"rows_last":500,"rows_between":2000,"halvings":0,"cell_chars":16384,"cell_head_chars":4096},"cells_cut":0,"cells_raw":0,"read":"whole","date_system":"1900"}

{"sheet":"Risk Register (Positive)","index":0,"n_rows":18,"n_cols":13,"rows_kept":18,"cut":false,"hidden":false,"merged":[[17,9,18,9],[17,10,18,10],[17,11,18,11],[17,12,18,12],[17,3,18,3],[17,4,18,4],[17,5,18,5],[17,6,18,6],[17,8,18,8],[11,6,12,6],[11,8,12,8],[9,7,10,7],[11,7,12,7],[13,7,14,7],[13,12,14,12],[15,3,16,3],[15,4,16,4],[15,5,16,5],[15,6,16,6],[15,8,16,8],[15,9,16,9],[15,10,16,10],[15,11,16,11],[15,12,16,12],[13,9,14,9],[13,3,14,3],[13,4,14,4],[13,5,14,5],[13,6,14,6],[13,8,14,8],[9,12,10,12],[11,10,12,10],[11,11,12,11],[11,12,12,12],[11,9,12,9],[9,9,10,9],[9,10,10,10],[9,11,10,11],[13,11,14,11],[3,11,4,11],[5,9,6,9],[5,10,6,10],[5,11,6,11],[1,7,2,7],[3,7,4,7],[5,7,6,7],[5,12,6,12],[7,3,8,3],[7,4,8,4],[7,5,8,5],[7,6,8,6],[7,8,8,8],[7,9,8,9],[7,10,8,10],[7,11,8,11],[7,12,8,12],[5,3,6,3],[5,4,6,4],[5,5,6,5],[7,7,8,7],[1,0,2,0],[3,0,4,0],[5,0,6,0],[7,0,8,0],[9,0,10,0],[3,12,4,12],[1,9,2,9],[1,10,2,10],[1,11,2,11],[1,1,2,1],[3,1,4,1],[1,12,2,12],[3,3,4,3],[3,4,4,4],[3,5,4,5],[3,6,4,6],[3,8,4,8],[3,9,4,9],[1,3,2,3],[1,4,2,4],[1,5,2,5],[1,6,2,6],[1,8,2,8],[3,10,4,10],[15,7,16,7],[17,7,18,7],[15,1,16,1],[17,0,18,0],[17,1,18,1],[13,10,14,10],[5,1,6,1],[7,1,8,1],[9,1,10,1],[11,1,12,1],[13,1,14,1],[11,0,12,0],[13,0,14,0],[15,0,16,0],[5,6,6,6],[5,8,6,8],[9,3,10,3],[9,4,10,4],[9,5,10,5],[9,6,10,6],[9,8,10,8],[11,3,12,3],[11,4,12,4],[11,5,12,5]]}
["Opportunity ID","Risk Category","Opportunity Description / Opportunity Consequence","Probability","Impact","Risk Rating","Possible Risk Treatment options","Probability after treatment","Impact after treatment","Risk rating after treatment","Person in charge of implementation","Implementation time plan","Notes"]
[null,null,null,null,null,{"$f":"D2*E2","v":0},null,{"$f":"D2","v":0},{"$f":"E2","v":0},{"$f":"H2*I2","v":0}]
[]
[null,null,null,null,null,{"$f":"D4*E4","v":0},null,{"$f":"D4","v":0},{"$f":"E4","v":0},{"$f":"H4*I4","v":0}]
[]
[null,null,null,null,null,{"$f":"D6*E6","v":0},null,{"$f":"D6","v":0},{"$f":"E6","v":0},{"$f":"H6*I6","v":0}]
[]
[null,null,null,null,null,{"$f":"D8*E8","v":0},null,{"$f":"D8","v":0},{"$f":"E8","v":0},{"$f":"H8*I8","v":0}]
[]
[null,null,null,null,null,{"$f":"D10*E10","v":0}]
[]
[null,null,null,null,null,{"$f":"D12*E12","v":0}]
[]
[null,null,null,null,null,{"$f":"D14*E14","v":0}]
[]
[null,null,null,null,null,{"$f":"D16*E16","v":0}]
[]
[null,null,null,null,null,0]

{"sheet":"Risk Matrix","index":1,"n_rows":7,"n_cols":14,"rows_kept":7,"cut":false,"hidden":false,"merged":[[1,0,4,0],[6,2,6,5],[1,8,4,8],[6,10,6,13]]}
[]
["Probability",4,{"$f":"STRINGCONCAT(\",\",IF('Risk Register (Positive)'!$D$2:$D$1000=4,IF('Risk Register (Positive)'!$E$2:$E$1000=1,'Risk Register (Positive)'!$A$2:$A$1000,\"\"),\"\"))","v":""},{"$f":"STRINGCONCAT(\",\",IF('Risk Register (Positive)'!$D$2:$D$1000=4,IF('Risk Register (Positive)'!$E$2:$E$1000=2,'Risk Register (Positive)'!$A$2:$A$1000,\"\"),\"\"))","v":""},{"$f":"STRINGCONCAT(\",\",IF('Risk Register (Positive)'!$D$2:$D$1000=4,IF('Risk Register (Positive)'!$E$2:$E$1000=3,'Risk Register (Positive)'!$A$2:$A$1000,\"\"),\"\"))","v":""},{"$f":"STRINGCONCAT(\",\",IF('Risk Register (Positive)'!$D$2:$D$1000=4,IF('Risk Register (Positive)'!$E$2:$E$1000=4,'Risk Register (Positive)'!$A$2:$A$1000,\"\"),\"\"))","v":""},null,null,"Probability after treatment",4,{"$f":"STRINGCONCAT(\",\",IF('Risk Register (Positive)'!$H$2:$H$1000=4,IF('Risk Register (Positive)'!$I$2:$I$1000=1,'Risk Register (Positive)'!$A$2:$A$1000,\"\"),\"\"))","v":""},{"$f":"STRINGCONCAT(\",\",IF('Risk Register (Positive)'!$H$2:$H$1000=4,IF('Risk Register (Positive)'!$I$2:$I$1000=2,'Risk Register (Positive)'!$A$2:$A$1000,\"\"),\"\"))","v":""},{"$f":"STRINGCONCAT(\",\",IF('Risk Register (Positive)'!$H$2:$H$1000=4,IF('Risk Register (Positive)'!$I$2:$I$1000=3,'Risk Register (Positive)'!$A$2:$A$1000,\"\"),\"\"))","v":""},{"$f":"STRINGCONCAT(\",\",IF('Risk Register (Positive)'!$H$2:$H$1000=4,IF('Risk Register (Positive)'!$I$2:$I$1000=4,'Risk Register (Positive)'!$A$2:$A$1000,\"\"),\"\"))","v":""}]
[null,3,{"$f":"STRINGCONCAT(\",\",IF('Risk Register (Positive)'!$D$2:$D$1000=3,IF('Risk Register (Positive)'!$E$2:$E$1000=1,'Risk Register (Positive)'!$A$2:$A$1000,\"\"),\"\"))","v":""},{"$f":"STRINGCONCAT(\",\",IF('Risk Register (Positive)'!$D$2:$D$1000=3,IF('Risk Register (Positive)'!$E$2:$E$1000=2,'Risk Register (Positive)'!$A$2:$A$1000,\"\"),\"\"))","v":""},{"$f":"STRINGCONCAT(\",\",IF('Risk Register (Positive)'!$D$2:$D$1000=3,IF('Risk Register (Positive)'!$E$2:$E$1000=3,'Risk Register (Positive)'!$A$2:$A$1000,\"\"),\"\"))","v":""},{"$f":"STRINGCONCAT(\",\",IF('Risk Register (Positive)'!$D$2:$D$1000=3,IF('Risk Register (Positive)'!$E$2:$E$1000=4,'Risk Register (Positive)'!$A$2:$A$1000,\"\"),\"\"))","v":""},null,null,null,3,{"$f":"STRINGCONCAT(\",\",IF('Risk Register (Positive)'!$H$2:$H$1000=3,IF('Risk Register (Positive)'!$I$2:$I$1000=1,'Risk Register (Positive)'!$A$2:$A$1000,\"\"),\"\"))","v":""},{"$f":"STRINGCONCAT(\",\",IF('Risk Register (Positive)'!$H$2:$H$1000=3,IF('Risk Register (Positive)'!$I$2:$I$1000=2,'Risk Register (Positive)'!$A$2:$A$1000,\"\"),\"\"))","v":""},{"$f":"STRINGCONCAT(\",\",IF('Risk Register (Positive)'!$H$2:$H$1000=3,IF('Risk Register (Positive)'!$I$2:$I$1000=3,'Risk Register (Positive)'!$A$2:$A$1000,\"\"),\"\"))","v":""},{"$f":"STRINGCONCAT(\",\",IF('Risk Register (Positive)'!$H$2:$H$1000=3,IF('Risk Register (Positive)'!$I$2:$I$1000=4,'Risk Register (Positive)'!$A$2:$A$1000,\"\"),\"\"))","v":""}]
[null,2,{"$f":"STRINGCONCAT(\",\",IF('Risk Register (Positive)'!$D$2:$D$1000=2,IF('Risk Register (Positive)'!$E$2:$E$1000=1,'Risk Register (Positive)'!$A$2:$A$1000,\"\"),\"\"))","v":""},{"$f":"STRINGCONCAT(\",\",IF('Risk Register (Positive)'!$D$2:$D$1000=2,IF('Risk Register (Positive)'!$E$2:$E$1000=2,'Risk Register (Positive)'!$A$2:$A$1000,\"\"),\"\"))","v":""},{"$f":"STRINGCONCAT(\",\",IF('Risk Register (Positive)'!$D$2:$D$1000=2,IF('Risk Register (Positive)'!$E$2:$E$1000=3,'Risk Register (Positive)'!$A$2:$A$1000,\"\"),\"\"))","v":""},{"$f":"STRINGCONCAT(\",\",IF('Risk Register (Positive)'!$D$2:$D$1000=2,IF('Risk Register (Positive)'!$E$2:$E$1000=4,'Risk Register (Positive)'!$A$2:$A$1000,\"\"),\"\"))","v":""},null,null,null,2,{"$f":"STRINGCONCAT(\",\",IF('Risk Register (Positive)'!$H$2:$H$1000=2,IF('Risk Register (Positive)'!$I$2:$I$1000=1,'Risk Register (Positive)'!$A$2:$A$1000,\"\"),\"\"))","v":""},{"$f":"STRINGCONCAT(\",\",IF('Risk Register (Positive)'!$H$2:$H$1000=2,IF('Risk Register (Positive)'!$I$2:$I$1000=2,'Risk Register (Positive)'!$A$2:$A$1000,\"\"),\"\"))","v":""},{"$f":"STRINGCONCAT(\",\",IF('Risk Register (Positive)'!$H$2:$H$1000=2,IF('Risk Register (Positive)'!$I$2:$I$1000=3,'Risk Register (Positive)'!$A$2:$A$1000,\"\"),\"\"))","v":""},{"$f":"STRINGCONCAT(\",\",IF('Risk Register (Positive)'!$H$2:$H$1000=2,IF('Risk Register (Positive)'!$I$2:$I$1000=4,'Risk Register (Positive)'!$A$2:$A$1000,\"\"),\"\"))","v":""}]
[null,1,{"$f":"STRINGCONCAT(\",\",IF('Risk Register (Positive)'!$D$2:$D$1000=1,IF('Risk Register (Positive)'!$E$2:$E$1000=1,'Risk Register (Positive)'!$A$2:$A$1000,\"\"),\"\"))","v":""},{"$f":"STRINGCONCAT(\",\",IF('Risk Register (Positive)'!$D$2:$D$1000=1,IF('Risk Register (Positive)'!$E$2:$E$1000=2,'Risk Register (Positive)'!$A$2:$A$1000,\"\"),\"\"))","v":""},{"$f":"STRINGCONCAT(\",\",IF('Risk Register (Positive)'!$D$2:$D$1000=1,IF('Risk Register (Positive)'!$E$2:$E$1000=3,'Risk Register (Positive)'!$A$2:$A$1000,\"\"),\"\"))","v":""},{"$f":"STRINGCONCAT(\",\",IF('Risk Register (Positive)'!$D$2:$D$1000=1,IF('Risk Register (Positive)'!$E$2:$E$1000=4,'Risk Register (Positive)'!$A$2:$A$1000,\"\"),\"\"))","v":""},null,null,null,1,{"$f":"STRINGCONCAT(\",\",IF('Risk Register (Positive)'!$H$2:$H$1000=1,IF('Risk Register (Positive)'!$I$2:$I$1000=1,'Risk Register (Positive)'!$A$2:$A$1000,\"\"),\"\"))","v":""},{"$f":"STRINGCONCAT(\",\",IF('Risk Register (Positive)'!$H$2:$H$1000=1,IF('Risk Register (Positive)'!$I$2:$I$1000=2,'Risk Register (Positive)'!$A$2:$A$1000,\"\"),\"\"))","v":""},{"$f":"STRINGCONCAT(\",\",IF('Risk Register (Positive)'!$H$2:$H$1000=1,IF('Risk Register (Positive)'!$I$2:$I$1000=3,'Risk Register (Positive)'!$A$2:$A$1000,\"\"),\"\"))","v":""},{"$f":"STRINGCONCAT(\",\",IF('Risk Register (Positive)'!$H$2:$H$1000=1,IF('Risk Register (Positive)'!$I$2:$I$1000=4,'Risk Register (Positive)'!$A$2:$A$1000,\"\"),\"\"))","v":""}]
[null,null,1,2,3,4,null,null,null,null,1,2,3,4]
[null,null,"Impact",null,null,null,null,null,null,null,"Impact after treatment"]

{"sheet":"Scales","index":2,"n_rows":8,"n_cols":9,"rows_kept":8,"cut":false,"hidden":false,"merged":[[0,0,0,2],[0,4,0,6]]}
["Probability Scale",null,null,null,"Impact Scale",null,null,null,"Opportunity Areas"]
[1,null,"Unlikely",null,1,null,"Insignificant",null,"Scope-related and Strategic Risks"]
[2,null,"Moderate",null,2,null,"Minor",null,"Operational and Continuity Risks"]
[3,null,"Likely",null,3,null,"Major",null,"Financial Risks"]
[4,null,"Almost Certain",null,4,null,"Severe",null,"ICT Risks"]
[null,null,null,null,null,null,null,null,"Regulatory and Legal Risks"]
[null,null,null,null,null,null,null,null,"HR Risks"]
[null,null,null,null,null,null,null,null,"Governance and Stakeholders Risks"]